BEGIN:VCALENDAR
VERSION:2.0
PRODID:-//Bench Elementary - ECPv6.15.12.2//NONSGML v1.0//EN
CALSCALE:GREGORIAN
METHOD:PUBLISH
X-WR-CALNAME:Bench Elementary
X-ORIGINAL-URL:https://bench.sd79.bc.ca
X-WR-CALDESC:Events for Bench Elementary
REFRESH-INTERVAL;VALUE=DURATION:PT1H
X-Robots-Tag:noindex
X-PUBLISHED-TTL:PT1H
BEGIN:VTIMEZONE
TZID:America/Vancouver
BEGIN:DAYLIGHT
TZOFFSETFROM:-0800
TZOFFSETTO:-0700
TZNAME:PDT
DTSTART:20240310T100000
END:DAYLIGHT
BEGIN:STANDARD
TZOFFSETFROM:-0700
TZOFFSETTO:-0800
TZNAME:PST
DTSTART:20241103T090000
END:STANDARD
BEGIN:DAYLIGHT
TZOFFSETFROM:-0800
TZOFFSETTO:-0700
TZNAME:PDT
DTSTART:20250309T100000
END:DAYLIGHT
BEGIN:STANDARD
TZOFFSETFROM:-0700
TZOFFSETTO:-0800
TZNAME:PST
DTSTART:20251102T090000
END:STANDARD
BEGIN:DAYLIGHT
TZOFFSETFROM:-0800
TZOFFSETTO:-0700
TZNAME:PDT
DTSTART:20260308T100000
END:DAYLIGHT
BEGIN:STANDARD
TZOFFSETFROM:-0700
TZOFFSETTO:-0800
TZNAME:PST
DTSTART:20261101T090000
END:STANDARD
END:VTIMEZONE
BEGIN:VEVENT
DTSTART;TZID=America/Vancouver:20250604T170000
DTEND;TZID=America/Vancouver:20250604T200000
DTSTAMP:20260425T104639
CREATED:20250508T202010Z
LAST-MODIFIED:20250508T202010Z
UID:10000099-1749056400-1749067200@bench.sd79.bc.ca
SUMMARY:PAC Fun Fair
DESCRIPTION:
URL:https://bench.sd79.bc.ca/event/pac-fun-fair/
END:VEVENT
BEGIN:VEVENT
DTSTART;TZID=America/Vancouver:20250612T000000
DTEND;TZID=America/Vancouver:20250612T235959
DTSTAMP:20260425T104639
CREATED:20250606T210921Z
LAST-MODIFIED:20250606T211752Z
UID:10000111-1749686400-1749772799@bench.sd79.bc.ca
SUMMARY:District Softball Tournament
DESCRIPTION:
URL:https://bench.sd79.bc.ca/event/district-softball-tournament/
END:VEVENT
BEGIN:VEVENT
DTSTART;TZID=America/Vancouver:20250613T000000
DTEND;TZID=America/Vancouver:20250613T235959
DTSTAMP:20260425T104639
CREATED:20250606T211027Z
LAST-MODIFIED:20250606T211821Z
UID:10000112-1749772800-1749859199@bench.sd79.bc.ca
SUMMARY:Young Entrepreneur Fair
DESCRIPTION:
URL:https://bench.sd79.bc.ca/event/young-entrepreneur-fair/
END:VEVENT
BEGIN:VEVENT
DTSTART;TZID=America/Vancouver:20250619T133000
DTEND;TZID=America/Vancouver:20250619T140000
DTSTAMP:20260425T104639
CREATED:20250619T171307Z
LAST-MODIFIED:20250619T171307Z
UID:10000113-1750339800-1750341600@bench.sd79.bc.ca
SUMMARY:Whole School Rainbow Run
DESCRIPTION:
URL:https://bench.sd79.bc.ca/event/whole-school-rainbow-run/
END:VEVENT
BEGIN:VEVENT
DTSTART;TZID=America/Vancouver:20250620T000000
DTEND;TZID=America/Vancouver:20250620T235959
DTSTAMP:20260425T104639
CREATED:20250619T172613Z
LAST-MODIFIED:20250619T172613Z
UID:10000119-1750377600-1750463999@bench.sd79.bc.ca
SUMMARY:Ninja Party - Div. 7
DESCRIPTION:
URL:https://bench.sd79.bc.ca/event/ninja-party-div-7/
END:VEVENT
BEGIN:VEVENT
DTSTART;TZID=America/Vancouver:20250620T000000
DTEND;TZID=America/Vancouver:20250620T235959
DTSTAMP:20260425T104639
CREATED:20250619T192836Z
LAST-MODIFIED:20250619T192836Z
UID:10000124-1750377600-1750463999@bench.sd79.bc.ca
SUMMARY:Bench Elementary's Indigenous People's Day
DESCRIPTION:
URL:https://bench.sd79.bc.ca/event/bench-elementarys-indigenous-peoples-day/
END:VEVENT
BEGIN:VEVENT
DTSTART;TZID=America/Vancouver:20250625T000000
DTEND;TZID=America/Vancouver:20250625T235959
DTSTAMP:20260425T104639
CREATED:20250619T173605Z
LAST-MODIFIED:20250619T173605Z
UID:10000122-1750809600-1750895999@bench.sd79.bc.ca
SUMMARY:Talent Show
DESCRIPTION:
URL:https://bench.sd79.bc.ca/event/talent-show/
END:VEVENT
BEGIN:VEVENT
DTSTART;TZID=America/Vancouver:20250625T000000
DTEND;TZID=America/Vancouver:20250625T235959
DTSTAMP:20260425T104639
CREATED:20250619T192606Z
LAST-MODIFIED:20250619T192606Z
UID:10000123-1750809600-1750895999@bench.sd79.bc.ca
SUMMARY:Grade 7s Farewell
DESCRIPTION:
URL:https://bench.sd79.bc.ca/event/grade-7s-farewell/
END:VEVENT
END:VCALENDAR