BEGIN:VCALENDAR
VERSION:2.0
PRODID:-//Bench Elementary - ECPv6.15.12.2//NONSGML v1.0//EN
CALSCALE:GREGORIAN
METHOD:PUBLISH
X-ORIGINAL-URL:https://bench.sd79.bc.ca
X-WR-CALDESC:Events for Bench Elementary
REFRESH-INTERVAL;VALUE=DURATION:PT1H
X-Robots-Tag:noindex
X-PUBLISHED-TTL:PT1H
BEGIN:VTIMEZONE
TZID:America/Los_Angeles
BEGIN:DAYLIGHT
TZOFFSETFROM:-0800
TZOFFSETTO:-0700
TZNAME:PDT
DTSTART:20230312T100000
END:DAYLIGHT
BEGIN:STANDARD
TZOFFSETFROM:-0700
TZOFFSETTO:-0800
TZNAME:PST
DTSTART:20231105T090000
END:STANDARD
BEGIN:DAYLIGHT
TZOFFSETFROM:-0800
TZOFFSETTO:-0700
TZNAME:PDT
DTSTART:20240310T100000
END:DAYLIGHT
BEGIN:STANDARD
TZOFFSETFROM:-0700
TZOFFSETTO:-0800
TZNAME:PST
DTSTART:20241103T090000
END:STANDARD
BEGIN:DAYLIGHT
TZOFFSETFROM:-0800
TZOFFSETTO:-0700
TZNAME:PDT
DTSTART:20250309T100000
END:DAYLIGHT
BEGIN:STANDARD
TZOFFSETFROM:-0700
TZOFFSETTO:-0800
TZNAME:PST
DTSTART:20251102T090000
END:STANDARD
BEGIN:DAYLIGHT
TZOFFSETFROM:-0800
TZOFFSETTO:-0700
TZNAME:PDT
DTSTART:20260308T100000
END:DAYLIGHT
BEGIN:STANDARD
TZOFFSETFROM:-0700
TZOFFSETTO:-0800
TZNAME:PST
DTSTART:20261101T090000
END:STANDARD
END:VTIMEZONE
BEGIN:VTIMEZONE
TZID:America/Vancouver
BEGIN:DAYLIGHT
TZOFFSETFROM:-0800
TZOFFSETTO:-0700
TZNAME:PDT
DTSTART:20240310T100000
END:DAYLIGHT
BEGIN:STANDARD
TZOFFSETFROM:-0700
TZOFFSETTO:-0800
TZNAME:PST
DTSTART:20241103T090000
END:STANDARD
BEGIN:DAYLIGHT
TZOFFSETFROM:-0800
TZOFFSETTO:-0700
TZNAME:PDT
DTSTART:20250309T100000
END:DAYLIGHT
BEGIN:STANDARD
TZOFFSETFROM:-0700
TZOFFSETTO:-0800
TZNAME:PST
DTSTART:20251102T090000
END:STANDARD
BEGIN:DAYLIGHT
TZOFFSETFROM:-0800
TZOFFSETTO:-0700
TZNAME:PDT
DTSTART:20260308T100000
END:DAYLIGHT
BEGIN:STANDARD
TZOFFSETFROM:-0700
TZOFFSETTO:-0800
TZNAME:PST
DTSTART:20261101T090000
END:STANDARD
END:VTIMEZONE
BEGIN:VEVENT
DTSTART;TZID=America/Los_Angeles:20241230T000000
DTEND;TZID=America/Los_Angeles:20250103T235959
DTSTAMP:20260424T093045
CREATED:20240820T234155Z
LAST-MODIFIED:20250103T160050Z
UID:10000037-1735516800-1735948799@bench.sd79.bc.ca
SUMMARY:Winter Break (No Classes in Session)
DESCRIPTION:
URL:https://bench.sd79.bc.ca/event/winter-break-no-classes-in-session-2/
END:VEVENT
BEGIN:VEVENT
DTSTART;TZID=America/Los_Angeles:20250106T000000
DTEND;TZID=America/Los_Angeles:20250106T235959
DTSTAMP:20260424T093045
CREATED:20240820T234156Z
LAST-MODIFIED:20250106T162556Z
UID:10000038-1736121600-1736207999@bench.sd79.bc.ca
SUMMARY:Schools Reopen
DESCRIPTION:
URL:https://bench.sd79.bc.ca/event/schools-reopen/
LOCATION:Microsoft Teams Meeting
END:VEVENT
BEGIN:VEVENT
DTSTART;TZID=America/Vancouver:20250114T100000
DTEND;TZID=America/Vancouver:20250114T120000
DTSTAMP:20260424T093045
CREATED:20241120T201444Z
LAST-MODIFIED:20241120T201444Z
UID:10000066-1736848800-1736856000@bench.sd79.bc.ca
SUMMARY:Bake sale
DESCRIPTION:
URL:https://bench.sd79.bc.ca/event/bake-sale-3/
END:VEVENT
BEGIN:VEVENT
DTSTART;TZID=America/Vancouver:20250120T090000
DTEND;TZID=America/Vancouver:20250120T093000
DTSTAMP:20260424T093045
CREATED:20241218T195740Z
LAST-MODIFIED:20241218T195740Z
UID:10000074-1737363600-1737365400@bench.sd79.bc.ca
SUMMARY:Assembly
DESCRIPTION:
URL:https://bench.sd79.bc.ca/event/assembly/
END:VEVENT
BEGIN:VEVENT
DTSTART;TZID=America/Vancouver:20250121T114500
DTEND;TZID=America/Vancouver:20250121T120000
DTSTAMP:20260424T093045
CREATED:20241218T200021Z
LAST-MODIFIED:20241218T200021Z
UID:10000075-1737459900-1737460800@bench.sd79.bc.ca
SUMMARY:Hot Lunch - Subway
DESCRIPTION:
URL:https://bench.sd79.bc.ca/event/hot-lunch-subway/
END:VEVENT
BEGIN:VEVENT
DTSTART;TZID=America/Vancouver:20250128T093000
DTEND;TZID=America/Vancouver:20250128T222000
DTSTAMP:20260424T093045
CREATED:20250124T210847Z
LAST-MODIFIED:20250124T210847Z
UID:10000077-1738056600-1738102800@bench.sd79.bc.ca
SUMMARY:Skating - Barber & Ingram
DESCRIPTION:
URL:https://bench.sd79.bc.ca/event/skating-barber-ingram/
END:VEVENT
BEGIN:VEVENT
DTSTART;TZID=America/Vancouver:20250131T090000
DTEND;TZID=America/Vancouver:20250131T110000
DTSTAMP:20260424T093045
CREATED:20250124T205315Z
LAST-MODIFIED:20250124T205315Z
UID:10000076-1738314000-1738321200@bench.sd79.bc.ca
SUMMARY:Div. 15 & 17 - Wendy's House
DESCRIPTION:
URL:https://bench.sd79.bc.ca/event/div-15-17-wendys-house/
END:VEVENT
END:VCALENDAR